BEGIN:VCALENDAR
VERSION:2.0
PRODID:-//Hy vọng sống - ECPv6.15.12.2//NONSGML v1.0//EN
CALSCALE:GREGORIAN
METHOD:PUBLISH
X-ORIGINAL-URL:https://hyvongsong.com
X-WR-CALDESC:Sự kiện cho Hy vọng sống
REFRESH-INTERVAL;VALUE=DURATION:PT1H
X-Robots-Tag:noindex
X-PUBLISHED-TTL:PT1H
BEGIN:VTIMEZONE
TZID:Asia/Krasnoyarsk
BEGIN:STANDARD
TZOFFSETFROM:+0700
TZOFFSETTO:+0700
TZNAME:+07
DTSTART:20240101T000000
END:STANDARD
END:VTIMEZONE
BEGIN:VEVENT
DTSTART;TZID=Asia/Krasnoyarsk:20251205T080000
DTEND;TZID=Asia/Krasnoyarsk:20251207T210000
DTSTAMP:20260420T133821
CREATED:20251217T042718Z
LAST-MODIFIED:20260105T075239Z
UID:7384-1764921600-1765141200@hyvongsong.com
SUMMARY:Chợ Giáng Sinh Đà Nẵng
DESCRIPTION:More info : https://www.facebook.com/share/p/1FYin3ptvQ/
URL:https://hyvongsong.com/event/cho-giang-sinh-da-nang/
ATTACH;FMTTYPE=image/png:https://hyvongsong.com/wp-content/uploads/2025/12/hinh-anh_2026-01-05_145239217.png
END:VEVENT
END:VCALENDAR